BEGIN:VCALENDAR
VERSION:2.0
PRODID:-//Squarespace Inc/Squarespace 6//v6//EN
BEGIN:VEVENT
UID:5daf698f5eb9630d90a10669@squarespace.com
DTSTAMP:20191022T204426Z
DTSTART:20191025T010000Z
DTEND:20191025T023000Z
SUMMARY:Support Wilson Riles Against OPD Brutality at Police Commission
GEO:37.80532;-122.272544
LOCATION:City of Oakland City Council\, 1 Frank H. Ogawa Plaza (Rm 201)\, O
 akland\, CA\, 94612\, United States
END:VEVENT
END:VCALENDAR
