BEGIN:VCALENDAR
VERSION:2.0
PRODID:-//Squarespace Inc/Squarespace 6//v6//EN
BEGIN:VEVENT
UID:5d55eae3cb68190001a9932e@squarespace.com
DTSTAMP:20190905T221819Z
DTSTART:20190822T020000Z
DTEND:20190822T033000Z
SUMMARY:APTP General Membership Meeting
GEO:37.783445;-122.236465
LOCATION:East Side Arts Alliance\, 2277 International Blvd\, Oakland CA 946
 06
END:VEVENT
END:VCALENDAR
