BEGIN:VCALENDAR
VERSION:2.0
PRODID:-//Squarespace Inc/Squarespace 6//v6//EN
BEGIN:VEVENT
UID:5d48f5258366420001860cee@squarespace.com
DTSTAMP:20190806T033452Z
DTSTART:20190718T020000Z
DTEND:20190718T040000Z
SUMMARY:APTP General Membership Meeting
GEO:37.783445;-122.236465
LOCATION:East Side Arts Alliance\, 2277 International Blvd\, Oakland CA 946
 06
END:VEVENT
END:VCALENDAR
