BEGIN:VCALENDAR
VERSION:2.0
PRODID:-//Squarespace Inc/Squarespace 6//v6//EN
BEGIN:VEVENT
UID:5d48f446580c020001f1b4d1@squarespace.com
DTSTAMP:20190806T033158Z
DTSTART:20190516T020000Z
DTEND:20190516T040000Z
SUMMARY:APTP General Membership Meeting - Redirected to DefundOPD
GEO:37.805175;-122.272394
LOCATION:Oakland City Hall\, 1 Frank H Ogawa Plaza\, Oakland\, CA\, 94612\, 
 United States
END:VEVENT
END:VCALENDAR
