BEGIN:VCALENDAR
VERSION:2.0
PRODID:-//Squarespace Inc/Squarespace 6//v6//EN
BEGIN:VEVENT
UID:5d48f4ba208ae80001a3e236@squarespace.com
DTSTAMP:20190806T033346Z
DTSTART:20190620T010000Z
DTEND:20190620T050000Z
SUMMARY:APTP General Membership Meeting - Healing Justice
GEO:37.783445;-122.236465
LOCATION:East Side Arts Alliance\, 2277 International Blvd\, Oakland CA 946
 06
END:VEVENT
END:VCALENDAR
