BEGIN:VCALENDAR
VERSION:2.0
PRODID:-//Squarespace Inc/Squarespace 6//v6//EN
BEGIN:VEVENT
UID:5d48f2b8b560e80001090e4a@squarespace.com
DTSTAMP:20190806T032446Z
DTSTART:20190724T013000Z
DTEND:20190724T043000Z
SUMMARY:Vallejo Families Return To City Council
END:VEVENT
END:VCALENDAR
