BEGIN:VCALENDAR
VERSION:2.0
PRODID:-//Squarespace Inc/Squarespace 6//v6//EN
BEGIN:VEVENT
UID:5db74c457b3dc2207c90766c@squarespace.com
DTSTAMP:20191028T201702Z
DTSTART:20191029T003000Z
DTEND:20191029T020000Z
SUMMARY:Day Of Outrage: Wear Black!
GEO:37.804324;-122.271168
LOCATION:Oscar Grant Plaza\, 14th Street and Broadway\, Oakland\, CA 94612
END:VEVENT
END:VCALENDAR
