BEGIN:VCALENDAR
VERSION:2.0
PRODID:-//Squarespace Inc/Squarespace 6//v6//EN
BEGIN:VEVENT
UID:5d87fec668af88237836fae5@squarespace.com
DTSTAMP:20190922T230902Z
DTSTART:20191017T020000Z
DTEND:20191017T033000Z
SUMMARY:APTP General Membership Meeting
GEO:37.783445;-122.236465
LOCATION:East Side Arts Alliance\, 2277 International Blvd\, Oakland CA 946
 06
END:VEVENT
END:VCALENDAR
