BEGIN:VCALENDAR
VERSION:2.0
PRODID:-//Squarespace Inc/Squarespace 6//v6//EN
BEGIN:VEVENT
UID:5db8d5cfe0b9a73ece2ab244@squarespace.com
DTSTAMP:20191120T202239Z
DTSTART:20191121T030000Z
DTEND:20191121T043000Z
SUMMARY:APTP General Membership Meeting
GEO:37.783445;-122.236465
LOCATION:East Side Arts Alliance\, 2277 International Blvd\, Oakland CA 946
 06
END:VEVENT
END:VCALENDAR
