BEGIN:VCALENDAR
VERSION:2.0
PRODID:-//Squarespace Inc/Squarespace 6//v6//EN
BEGIN:VEVENT
UID:5dc8ce64e8290d7830f6d597@squarespace.com
DTSTAMP:20191111T030335Z
DTSTART:20191116T230000Z
DTEND:20191117T010000Z
SUMMARY:Rally &amp\; Vigil: Justice 4 Dujuan Armstrong\, Killed in Santa Ri
 ta
GEO:37.781272;-122.235476
LOCATION:Alameda County Sheriff SubStation\, 2425 East 12th Street\, Oaklan
 d\, CA\, 94601\, United States
END:VEVENT
END:VCALENDAR
