BEGIN:VCALENDAR
VERSION:2.0
PRODID:-//Squarespace Inc/Squarespace 6//v6//EN
BEGIN:VEVENT
UID:5dd5a0b24cd12904861b4aaf@squarespace.com
DTSTAMP:20191120T202536Z
DTSTART:20191124T010000Z
DTEND:20191124T050000Z
SUMMARY:Mental Health First Aid Training for First Responders
GEO:38.580882;-121.383599
LOCATION:Sacramento Public Library (Arden-Dimick)\, 891 Watt Avenue\, Sacra
 mento\, CA\, 95864\, United States
END:VEVENT
END:VCALENDAR
