BEGIN:VCALENDAR
VERSION:2.0
PRODID:-//Squarespace Inc/Squarespace 6//v6//EN
BEGIN:VEVENT
UID:5dfa77fdb2c1564071c39a43@squarespace.com
DTSTAMP:20191225T015949Z
DTSTART:20191226T163000Z
DTEND:20191226T193000Z
SUMMARY:Court Support for Moms 4 Housing
GEO:37.657226;-122.094574
LOCATION:Alameda County Superior Court\, 24405 Amador Street\, Hayward\, CA
 \, 94544\, United States
END:VEVENT
END:VCALENDAR
