BEGIN:VCALENDAR
VERSION:2.0
PRODID:-//Squarespace Inc/Squarespace 6//v6//EN
BEGIN:VEVENT
UID:5d680a78e0d47900019fe323@squarespace.com
DTSTAMP:20190909T053332Z
DTSTART:20190901T230000Z
DTEND:20190902T030000Z
SUMMARY:Santa Rita Jail Support
GEO:37.797385;-122.2653
LOCATION:Lake Merritt BART Station\, 800 Madison Street\, Oakland\, CA 9460
 7
END:VEVENT
END:VCALENDAR
