BEGIN:VCALENDAR
VERSION:2.0
PRODID:-//Squarespace Inc/Squarespace 6//v6//EN
BEGIN:VEVENT
UID:5d87ff5368af882378370640@squarespace.com
DTSTAMP:20191003T212010Z
DTSTART:20190929T230000Z
DTEND:20190930T030000Z
SUMMARY:Santa Rita Jail Support
GEO:37.797385;-122.2653
LOCATION:Lake Merritt BART Station\, 800 Madison Street\, Oakland\, CA 9460
 7
END:VEVENT
END:VCALENDAR
