BEGIN:VCALENDAR
VERSION:2.0
PRODID:-//Squarespace Inc/Squarespace 6//v6//EN
BEGIN:VEVENT
UID:5dc227bdc0d3364af5ca8579@squarespace.com
DTSTAMP:20191121T235946Z
DTSTART:20191111T000000Z
DTEND:20191111T040000Z
SUMMARY:Santa Rita Jail Support
GEO:37.797385;-122.2653
LOCATION:Lake Merritt BART Station\, 800 Madison Street\, Oakland\, CA 9460
 7
END:VEVENT
END:VCALENDAR
