BEGIN:VCALENDAR
VERSION:2.0
PRODID:-//Squarespace Inc/Squarespace 6//v6//EN
BEGIN:VEVENT
UID:5dd724f23ce4261ee2248037@squarespace.com
DTSTAMP:20191215T070128Z
DTSTART:20191125T000000Z
DTEND:20191125T040000Z
SUMMARY:Santa Rita Jail Support
GEO:37.797385;-122.2653
LOCATION:Lake Merritt BART Station\, 800 Madison Street\, Oakland\, CA 9460
 7
END:VEVENT
END:VCALENDAR
