BEGIN:VCALENDAR
VERSION:2.0
PRODID:-//Squarespace Inc/Squarespace 6//v6//EN
BEGIN:VEVENT
UID:5df5da4834929a2cbf209fab@squarespace.com
DTSTAMP:20200112T231512Z
DTSTART:20191223T000000Z
DTEND:20191223T040000Z
SUMMARY:Santa Rita Jail Support
GEO:37.797385;-122.2653
LOCATION:Lake Merritt BART Station\, 800 Madison Street\, Oakland\, CA 9460
 7
END:VEVENT
END:VCALENDAR
