BEGIN:VCALENDAR
VERSION:2.0
PRODID:-//Squarespace Inc/Squarespace 6//v6//EN
BEGIN:VEVENT
UID:5d917eedb876135bf05a46de@squarespace.com
DTSTAMP:20191009T203549Z
DTSTART:20191017T020000Z
DTEND:20191017T040000Z
SUMMARY:Rescheduled Townhall: Community Input for Independent Oversight of 
 Police
GEO:37.752469;-122.177413
LOCATION:Allen Temple Baptist Church\, 8501 International Boulevard\, Oakla
 nd\, CA\, 94621\, United States
END:VEVENT
END:VCALENDAR
