BEGIN:VCALENDAR
VERSION:2.0
PRODID:-//Squarespace Inc/Squarespace 6//v6//EN
BEGIN:VEVENT
UID:5ed3af6f2c0f245a2e571613@squarespace.com
DTSTAMP:20200531T134621Z
DTSTART:20200531T133000Z
DTEND:20200531T143000Z
SUMMARY:George Floyd Solidarity Action
GEO:38.581032;-121.493887
LOCATION:Cesar Chavez Plaza\, Sacramento\, CA 95814
END:VEVENT
END:VCALENDAR
