BEGIN:VCALENDAR
VERSION:2.0
PRODID:-//Squarespace Inc/Squarespace 6//v6//EN
BEGIN:VEVENT
UID:5eceed32539e8f1201835ff9@squarespace.com
DTSTAMP:20200527T224715Z
DTSTART:20200528T020000Z
DTEND:20200528T040000Z
SUMMARY:Say His Name - George Floyd!
GEO:38.496058;-121.43797
LOCATION:Florin Rd and 65th Street\, Sacramento\, CA
END:VEVENT
END:VCALENDAR
