BEGIN:VCALENDAR
VERSION:2.0
PRODID:-//Squarespace Inc/Squarespace 6//v6//EN
BEGIN:VEVENT
UID:5e5ae05917c29a501a2347f2@squarespace.com
DTSTAMP:20200314T225533Z
DTSTART:20200329T020000Z
DTEND:20200329T060000Z
SUMMARY:MH First Responders Training
GEO:38.581572;-121.4944
LOCATION:Online\, Sacramento\, CA
END:VEVENT
END:VCALENDAR
