BEGIN:VCALENDAR
VERSION:2.0
PRODID:-//Squarespace Inc/Squarespace 6//v6//EN
BEGIN:VEVENT
UID:5ec44ebc7289703f42999194@squarespace.com
DTSTAMP:20200519T212836Z
DTSTART:20200524T013000Z
DTEND:20200524T033000Z
SUMMARY:MH First Volunteer Training
GEO:40.720756;-74.000761
LOCATION:Online via Zoom
END:VEVENT
END:VCALENDAR
