BEGIN:VCALENDAR
VERSION:2.0
PRODID:-//Squarespace Inc/Squarespace 6//v6//EN
BEGIN:VEVENT
UID:5ec44d702de081026b056293@squarespace.com
DTSTAMP:20200519T212456Z
DTSTART:20200522T020000Z
DTEND:20200522T040000Z
SUMMARY:APTP Sac Virtual General Meeting
GEO:38.542572;-121.451848
LOCATION:Online via Zoom\, United States
END:VEVENT
END:VCALENDAR
