BEGIN:VCALENDAR
VERSION:2.0
PRODID:-//Squarespace Inc/Squarespace 6//v6//EN
BEGIN:VEVENT
UID:5e629ee048fbba5ab636a839@squarespace.com
DTSTAMP:20200306T190709Z
DTSTART:20200310T210000Z
DTEND:20200310T230000Z
SUMMARY:Sac PD Doesn't Need a New Tank!
GEO:38.581868;-121.493415
LOCATION:Sacramento City Hall\, 915 I Street\, Sacramento\, CA 95814
END:VEVENT
END:VCALENDAR
