BEGIN:VCALENDAR
VERSION:2.0
PRODID:-//Squarespace Inc/Squarespace 6//v6//EN
BEGIN:VEVENT
UID:5eac945a9a7f5a59bfcb576c@squarespace.com
DTSTAMP:20200501T213539Z
DTSTART:20200508T190000Z
DTEND:20200508T200000Z
SUMMARY:We Take Care Of Us Webinar #1: Asantewaa Boykin on MH First
GEO:37.332854;-121.894908
LOCATION:Online
END:VEVENT
END:VCALENDAR
