BEGIN:VCALENDAR
VERSION:2.0
PRODID:-//Squarespace Inc/Squarespace 6//v6//EN
BEGIN:VEVENT
UID:5ebc57cf736960683b376df1@squarespace.com
DTSTAMP:20200513T203041Z
DTSTART:20200515T190000Z
DTEND:20200515T200000Z
SUMMARY:We Take Care Of Us Webinar #2: Youth Justice Coalition &amp\; CAT-9
 11
GEO:40.720756;-74.000761
LOCATION:Online via Zoom
END:VEVENT
END:VCALENDAR
